BEGIN:VCALENDAR
VERSION:2.0
PRODID:-//Volunteers Χ.Α.Ν.Θ - ECPv5.14.1//NONSGML v1.0//EN
CALSCALE:GREGORIAN
METHOD:PUBLISH
X-WR-CALNAME:Volunteers Χ.Α.Ν.Θ
X-ORIGINAL-URL:https://volunteers.ymca.gr/?lang=en
X-WR-CALDESC:Events for Volunteers Χ.Α.Ν.Θ
REFRESH-INTERVAL;VALUE=DURATION:PT1H
X-Robots-Tag:noindex
X-PUBLISHED-TTL:PT1H
BEGIN:VTIMEZONE
TZID:Europe/Moscow
BEGIN:STANDARD
TZOFFSETFROM:+0300
TZOFFSETTO:+0300
TZNAME:MSK
DTSTART:20220101T000000
END:STANDARD
END:VTIMEZONE
BEGIN:VEVENT
DTSTART;TZID=Europe/Moscow:20220323T135650
DTEND;TZID=Europe/Moscow:20220323T135650
DTSTAMP:20260420T120640
CREATED:20220323T145541Z
LAST-MODIFIED:20220323T145541Z
UID:642-1648043810-1648043810@volunteers.ymca.gr
SUMMARY:Organization of an urban landscape beautification action in the Municipalities of Kalamaria and Thessaloniki with the participation of refugees
DESCRIPTION:Refugees and volunteers will participate in planting work in public spaces. This action is not only ecological\, but also an action of integration of refugees in our city. This action will be repeated twice.
URL:https://volunteers.ymca.gr/event/organization-of-an-urban-landscape-beautification-action-in-the-municipalities-of-kalamaria-and-thessaloniki-with-the-participation-of-refugees/?lang=en
ATTACH;FMTTYPE=image/jpeg:https://volunteers.ymca.gr/wp-content/uploads/2022/03/banner-event.jpg
END:VEVENT
END:VCALENDAR